BEGIN:VCALENDAR
VERSION:2.0
PRODID:-//Ozark Rivers Solid Waste Management District - ECPv6.15.17//NONSGML v1.0//EN
CALSCALE:GREGORIAN
METHOD:PUBLISH
X-ORIGINAL-URL:https://ozarkrivers.org
X-WR-CALDESC:Events for Ozark Rivers Solid Waste Management District
REFRESH-INTERVAL;VALUE=DURATION:PT1H
X-Robots-Tag:noindex
X-PUBLISHED-TTL:PT1H
BEGIN:VTIMEZONE
TZID:America/Chicago
BEGIN:DAYLIGHT
TZOFFSETFROM:-0600
TZOFFSETTO:-0500
TZNAME:CDT
DTSTART:20200308T080000
END:DAYLIGHT
BEGIN:STANDARD
TZOFFSETFROM:-0500
TZOFFSETTO:-0600
TZNAME:CST
DTSTART:20201101T070000
END:STANDARD
BEGIN:DAYLIGHT
TZOFFSETFROM:-0600
TZOFFSETTO:-0500
TZNAME:CDT
DTSTART:20210314T080000
END:DAYLIGHT
BEGIN:STANDARD
TZOFFSETFROM:-0500
TZOFFSETTO:-0600
TZNAME:CST
DTSTART:20211107T070000
END:STANDARD
BEGIN:DAYLIGHT
TZOFFSETFROM:-0600
TZOFFSETTO:-0500
TZNAME:CDT
DTSTART:20220313T080000
END:DAYLIGHT
BEGIN:STANDARD
TZOFFSETFROM:-0500
TZOFFSETTO:-0600
TZNAME:CST
DTSTART:20221106T070000
END:STANDARD
BEGIN:DAYLIGHT
TZOFFSETFROM:-0600
TZOFFSETTO:-0500
TZNAME:CDT
DTSTART:20230312T080000
END:DAYLIGHT
BEGIN:STANDARD
TZOFFSETFROM:-0500
TZOFFSETTO:-0600
TZNAME:CST
DTSTART:20231105T070000
END:STANDARD
BEGIN:DAYLIGHT
TZOFFSETFROM:-0600
TZOFFSETTO:-0500
TZNAME:CDT
DTSTART:20240310T080000
END:DAYLIGHT
BEGIN:STANDARD
TZOFFSETFROM:-0500
TZOFFSETTO:-0600
TZNAME:CST
DTSTART:20241103T070000
END:STANDARD
BEGIN:DAYLIGHT
TZOFFSETFROM:-0600
TZOFFSETTO:-0500
TZNAME:CDT
DTSTART:20250309T080000
END:DAYLIGHT
BEGIN:STANDARD
TZOFFSETFROM:-0500
TZOFFSETTO:-0600
TZNAME:CST
DTSTART:20251102T070000
END:STANDARD
BEGIN:DAYLIGHT
TZOFFSETFROM:-0600
TZOFFSETTO:-0500
TZNAME:CDT
DTSTART:20260308T080000
END:DAYLIGHT
BEGIN:STANDARD
TZOFFSETFROM:-0500
TZOFFSETTO:-0600
TZNAME:CST
DTSTART:20261101T070000
END:STANDARD
BEGIN:DAYLIGHT
TZOFFSETFROM:-0600
TZOFFSETTO:-0500
TZNAME:CDT
DTSTART:20270314T080000
END:DAYLIGHT
BEGIN:STANDARD
TZOFFSETFROM:-0500
TZOFFSETTO:-0600
TZNAME:CST
DTSTART:20271107T070000
END:STANDARD
END:VTIMEZONE
BEGIN:VEVENT
DTSTART;TZID=America/Chicago:20260418T090000
DTEND;TZID=America/Chicago:20260418T120000
DTSTAMP:20260422T164145
CREATED:20260304T215932Z
LAST-MODIFIED:20260312T205203Z
UID:6002-1776502800-1776513600@ozarkrivers.org
SUMMARY:St. Robert Special Collection
DESCRIPTION:Join us on Saturday\, April 18\, 2026 from 9:00 a.m. to 12:00 p.m. at the Tiger Typhoon Aquatic Center in St. Robert.  This collection will take any electronic or appliance as well as tires.  Many items can be recycled for free however there are fees for tires\, certain electronics and Freon appliances.  Visit our website for a current list of fees and unacceptable items: https://ozarkrivers.org/programs-and-services/special-collections/
URL:https://ozarkrivers.org/event/st-robert-special-collection/
LOCATION:St. Robert Aquatic Center\, 105 J.H. Williamson Jr. Drive\, St. Robert\, MO\, 65584\, United States
CATEGORIES:Special Collection
END:VEVENT
BEGIN:VEVENT
DTSTART;TZID=America/Chicago:20241026T090000
DTEND;TZID=America/Chicago:20241026T120000
DTSTAMP:20260422T164145
CREATED:20240820T185615Z
LAST-MODIFIED:20240827T154020Z
UID:2999-1729933200-1729944000@ozarkrivers.org
SUMMARY:Special Waste Collection - St. Robert
DESCRIPTION:Residential recycling event for electronics\, appliances\, and tires. \nAnything with a cord of battery operated is accepted.  Some fees apply – see below.
URL:https://ozarkrivers.org/event/special-waste-collection-st-robert-2/
LOCATION:St. Robert Aquatic Center\, 105 J.H. Williamson Jr. Drive\, St. Robert\, MO\, 65584\, United States
CATEGORIES:Special Collection
END:VEVENT
BEGIN:VEVENT
DTSTART;TZID=America/Chicago:20231007T090000
DTEND;TZID=America/Chicago:20231007T120000
DTSTAMP:20260422T164145
CREATED:20230804T192424Z
LAST-MODIFIED:20230804T192424Z
UID:2500-1696669200-1696680000@ozarkrivers.org
SUMMARY:Special Waste Collection - St. Robert
DESCRIPTION:Residential recycling event for electronics\, appliances\, and tires. \nAnything with a cord or battery operated is accepted!  Some fees apply – see below. \n\n\nEvent Flier
URL:https://ozarkrivers.org/event/special-waste-collection-st-robert/
LOCATION:St. Robert Aquatic Center\, 105 J.H. Williamson Jr. Drive\, St. Robert\, MO\, 65584\, United States
END:VEVENT
BEGIN:VEVENT
DTSTART;TZID=America/Chicago:20221008T090000
DTEND;TZID=America/Chicago:20221008T120000
DTSTAMP:20260422T164145
CREATED:20220106T221423Z
LAST-MODIFIED:20220706T140213Z
UID:2248-1665219600-1665230400@ozarkrivers.org
SUMMARY:Special Collection - St. Robert's Aquatic Center
DESCRIPTION:Residential collection of electronics\, appliances\, and tires.  This collection is open to any household in Crawford\, Dent\, Gasconade\, Maries\, Phelps\, Pulaski\, and Washington counties.  Anything with a cord or battery operated! \nFor a list of free\, fee\, and unacceptable items please visit: https://ozarkrivers.org/programs-and-services/special-collections/
URL:https://ozarkrivers.org/event/special-collection-st-roberts-aquatic-center-2/
LOCATION:St. Robert Aquatic Center\, 105 J.H. Williamson Jr. Drive\, St. Robert\, MO\, 65584\, United States
CATEGORIES:Special Collection
ATTACH;FMTTYPE=image/jpeg:https://ozarkrivers.org/wp-content/uploads/2022/01/St.-Robert-Oct.-8-scaled.jpg
ORGANIZER;CN="Jill Hollowell":MAILTO:jhollowell@meramecregion.org
END:VEVENT
BEGIN:VEVENT
DTSTART;TZID=America/Chicago:20211009T090000
DTEND;TZID=America/Chicago:20211009T120000
DTSTAMP:20260422T164145
CREATED:20210215T202157Z
LAST-MODIFIED:20210915T142626Z
UID:2086-1633770000-1633780800@ozarkrivers.org
SUMMARY:Special Collection - St. Robert's Aquatic Center
DESCRIPTION:
URL:https://ozarkrivers.org/event/special-collection-st-roberts-aquatic-center/
LOCATION:St. Robert Aquatic Center\, 105 J.H. Williamson Jr. Drive\, St. Robert\, MO\, 65584\, United States
CATEGORIES:Special Collection
ORGANIZER;CN="Jill Hollowell":MAILTO:jhollowell@meramecregion.org
END:VEVENT
END:VCALENDAR